BEGIN:VCALENDAR
VERSION:2.0
PRODID:-//GREATER EMMANUEL INSTITUTIONAL CHURCH OF GOD IN CHRIST - ECPv6.15.16//NONSGML v1.0//EN
CALSCALE:GREGORIAN
METHOD:PUBLISH
X-ORIGINAL-URL:https://www.geicogic.org
X-WR-CALDESC:Events for GREATER EMMANUEL INSTITUTIONAL CHURCH OF GOD IN CHRIST
REFRESH-INTERVAL;VALUE=DURATION:PT1H
X-Robots-Tag:noindex
X-PUBLISHED-TTL:PT1H
BEGIN:VTIMEZONE
TZID:UTC
BEGIN:STANDARD
TZOFFSETFROM:+0000
TZOFFSETTO:+0000
TZNAME:UTC
DTSTART:20250101T000000
END:STANDARD
END:VTIMEZONE
BEGIN:VEVENT
DTSTART;TZID=UTC:20260418T110000
DTEND;TZID=UTC:20260418T120000
DTSTAMP:20260422T220359
CREATED:20260417T170146Z
LAST-MODIFIED:20260417T170251Z
UID:80056-1776510000-1776513600@www.geicogic.org
SUMMARY:Your Brain Matters
DESCRIPTION:
URL:https://www.geicogic.org/churchevent/your-brain-matters/
LOCATION:Greater Emmanuel Institutional Church of God in Christ\, 19190 Schaefer HWY\, Detroit\, MI\, 48235\, United States
ATTACH;FMTTYPE=image/png:https://www.geicogic.org/wp-content/uploads/2026/04/GEI-POST.png
END:VEVENT
BEGIN:VEVENT
DTSTART;TZID=UTC:20260418T120000
DTEND;TZID=UTC:20260418T140000
DTSTAMP:20260422T220359
CREATED:20260405T154355Z
LAST-MODIFIED:20260405T154355Z
UID:80043-1776513600-1776520800@www.geicogic.org
SUMMARY:Food Distribution
DESCRIPTION:Greater Emmanuel along with our partners Forgotten\nHarvest & Gleaners Community Food Bank will serve the Community\nSaturday\, April 18th from 12pm – 2pm. Register or Volunteer with Sis.\nGloria Conyers
URL:https://www.geicogic.org/churchevent/food-distribution/
ATTACH;FMTTYPE=image/jpeg:https://www.geicogic.org/wp-content/uploads/2026/04/Serving-4-18.jpg
END:VEVENT
BEGIN:VEVENT
DTSTART;TZID=UTC:20260423T140000
DTEND;TZID=UTC:20260423T173000
DTSTAMP:20260422T220359
CREATED:20260421T153243Z
LAST-MODIFIED:20260421T153243Z
UID:80078-1776952800-1776965400@www.geicogic.org
SUMMARY:Free Tree Giveaway
DESCRIPTION:Free Tree Giveaway will take place at The Wayne County\nAquatic Center Thursday\, April 23 rd \, located at 12600 Chandler Park in\nDetroit from 2pm – 5:30pm. Please see Deacon Gerald Drew for more\ninformation.
URL:https://www.geicogic.org/churchevent/free-tree-giveaway/
ATTACH;FMTTYPE=image/jpeg:https://www.geicogic.org/wp-content/uploads/2026/04/TREE-GIVEAWAY.jpg
END:VEVENT
BEGIN:VEVENT
DTSTART;TZID=UTC:20260423T180000
DTEND;TZID=UTC:20260423T193000
DTSTAMP:20260422T220359
CREATED:20260421T153355Z
LAST-MODIFIED:20260421T153355Z
UID:80080-1776967200-1776972600@www.geicogic.org
SUMMARY:OPEN MIC NIGHT
DESCRIPTION:
URL:https://www.geicogic.org/churchevent/open-mic-night/
LOCATION:Greater Emmanuel Institutional Church of God in Christ\, 19190 Schaefer HWY\, Detroit\, MI\, 48235\, United States
ATTACH;FMTTYPE=image/jpeg:https://www.geicogic.org/wp-content/uploads/2026/04/OPEN-MIC.jpg
END:VEVENT
BEGIN:VEVENT
DTSTART;VALUE=DATE:20260424
DTEND;VALUE=DATE:20260427
DTSTAMP:20260422T220359
CREATED:20260421T152846Z
LAST-MODIFIED:20260421T152846Z
UID:80070-1776988800-1777247999@www.geicogic.org
SUMMARY:Headquarters District Meeting
DESCRIPTION:MI North Central please join the Headquarters District\nMeeting Friday\, April 24 th with our District Missionary Joan Boyd Brown\nfor Women’s night and then come back Sunday\, April 26 th for “Official\nDay” at 4pm with our District Superintendent\, John A. Hall Jr. These\nservices will be held at Rehoboth International Ministries located at\n20500 Moross Road in Detroit\, MI. Don’t miss these powerful services.
URL:https://www.geicogic.org/churchevent/headquarters-district-meeting/
LOCATION:Rehoboth International Ministries\, 20500 Moross Road\, Detroit\, Michigan
ATTACH;FMTTYPE=image/jpeg:https://www.geicogic.org/wp-content/uploads/2026/04/HEADQUARTERS-DISTRICT.jpg
END:VEVENT
BEGIN:VEVENT
DTSTART;TZID=UTC:20260504T190000
DTEND;TZID=UTC:20260504T210000
DTSTAMP:20260422T220359
CREATED:20260405T154758Z
LAST-MODIFIED:20260405T154758Z
UID:80045-1777921200-1777928400@www.geicogic.org
SUMMARY:2nd Annual Celebration of Family Gala
DESCRIPTION:The Men’s Department of Greater Emmanuel presents their \n2nd Annual Celebration of Family Gala\, \nMonday\, May 4 th . @ The Gazebo Banquet Hall\, 31104\nMound Rd in Warren\, MI. VIP Tickets are $150/General Admission\n$100 and will be available by seeing Elder Lott\, Deacon Bruce\, Deacon\nManley or Deacon Payne.
URL:https://www.geicogic.org/churchevent/2nd-annual-celebration-of-family-gala/
ATTACH;FMTTYPE=image/jpeg:https://www.geicogic.org/wp-content/uploads/2026/04/BISHOP-CELEBRATION.jpg
END:VEVENT
END:VCALENDAR