BEGIN:VCALENDAR
VERSION:2.0
PRODID:-//GREATER EMMANUEL INSTITUTIONAL CHURCH OF GOD IN CHRIST - ECPv6.15.16//NONSGML v1.0//EN
CALSCALE:GREGORIAN
METHOD:PUBLISH
X-WR-CALNAME:GREATER EMMANUEL INSTITUTIONAL CHURCH OF GOD IN CHRIST
X-ORIGINAL-URL:https://www.geicogic.org
X-WR-CALDESC:Events for GREATER EMMANUEL INSTITUTIONAL CHURCH OF GOD IN CHRIST
REFRESH-INTERVAL;VALUE=DURATION:PT1H
X-Robots-Tag:noindex
X-PUBLISHED-TTL:PT1H
BEGIN:VTIMEZONE
TZID:UTC
BEGIN:STANDARD
TZOFFSETFROM:+0000
TZOFFSETTO:+0000
TZNAME:UTC
DTSTART:20250101T000000
END:STANDARD
END:VTIMEZONE
BEGIN:VEVENT
DTSTART;TZID=UTC:20260423T140000
DTEND;TZID=UTC:20260423T173000
DTSTAMP:20260423T020516
CREATED:20260421T153243Z
LAST-MODIFIED:20260421T153243Z
UID:80078-1776952800-1776965400@www.geicogic.org
SUMMARY:Free Tree Giveaway
DESCRIPTION:Free Tree Giveaway will take place at The Wayne County\nAquatic Center Thursday\, April 23 rd \, located at 12600 Chandler Park in\nDetroit from 2pm – 5:30pm. Please see Deacon Gerald Drew for more\ninformation.
URL:https://www.geicogic.org/churchevent/free-tree-giveaway/
ATTACH;FMTTYPE=image/jpeg:https://www.geicogic.org/wp-content/uploads/2026/04/TREE-GIVEAWAY.jpg
END:VEVENT
BEGIN:VEVENT
DTSTART;TZID=UTC:20260423T180000
DTEND;TZID=UTC:20260423T193000
DTSTAMP:20260423T020516
CREATED:20260421T153355Z
LAST-MODIFIED:20260421T153355Z
UID:80080-1776967200-1776972600@www.geicogic.org
SUMMARY:OPEN MIC NIGHT
DESCRIPTION:
URL:https://www.geicogic.org/churchevent/open-mic-night/
LOCATION:Greater Emmanuel Institutional Church of God in Christ\, 19190 Schaefer HWY\, Detroit\, MI\, 48235\, United States
ATTACH;FMTTYPE=image/jpeg:https://www.geicogic.org/wp-content/uploads/2026/04/OPEN-MIC.jpg
END:VEVENT
END:VCALENDAR